BEGIN:VCALENDAR
VERSION:2.0
PRODID:-// - ECPv5.10.0//NONSGML v1.0//EN
CALSCALE:GREGORIAN
METHOD:PUBLISH
X-ORIGINAL-URL:http://escargoterie-groix.fr
X-WR-CALDESC:évènements pour 
BEGIN:VTIMEZONE
TZID:Europe/Paris
BEGIN:DAYLIGHT
TZOFFSETFROM:+0100
TZOFFSETTO:+0200
TZNAME:CEST
DTSTART:20250330T010000
END:DAYLIGHT
BEGIN:STANDARD
TZOFFSETFROM:+0200
TZOFFSETTO:+0100
TZNAME:CET
DTSTART:20251026T010000
END:STANDARD
END:VTIMEZONE
BEGIN:VEVENT
DTSTART;TZID=Europe/Paris:20250709T170000
DTEND;TZID=Europe/Paris:20250709T200000
DTSTAMP:20260422T161358
CREATED:20190703T101555Z
LAST-MODIFIED:20250722T063028Z
UID:741-1752080400-1752091200@escargoterie-groix.fr
SUMMARY:Guidel-Plage 17h00-19h30 : Marché de producteurs
DESCRIPTION:En juillet-août tous les dimanches\, vous nous trouverez place de l’église à Larmor Plage pour le marché
URL:http://escargoterie-groix.fr/event/marche-de-larmor-plage-25/
LOCATION:Guidel-Plage\, Guidel
CATEGORIES:Marché
END:VEVENT
END:VCALENDAR