BEGIN:VCALENDAR
VERSION:2.0
PRODID:-// - ECPv5.10.0//NONSGML v1.0//EN
CALSCALE:GREGORIAN
METHOD:PUBLISH
X-ORIGINAL-URL:http://escargoterie-groix.fr
X-WR-CALDESC:évènements pour 
BEGIN:VTIMEZONE
TZID:Europe/Paris
BEGIN:DAYLIGHT
TZOFFSETFROM:+0100
TZOFFSETTO:+0200
TZNAME:CEST
DTSTART:20250330T010000
END:DAYLIGHT
BEGIN:STANDARD
TZOFFSETFROM:+0200
TZOFFSETTO:+0100
TZNAME:CET
DTSTART:20251026T010000
END:STANDARD
END:VTIMEZONE
BEGIN:VEVENT
DTSTART;TZID=Europe/Paris:20250813T170000
DTEND;TZID=Europe/Paris:20250813T193000
DTSTAMP:20260422T150001
CREATED:20200115T091758Z
LAST-MODIFIED:20250722T062652Z
UID:975-1755104400-1755113400@escargoterie-groix.fr
SUMMARY:Marché de producteurs à Guidel-Plage : 17h-19h30
DESCRIPTION:
URL:http://escargoterie-groix.fr/event/marche-de-merville-14/
LOCATION:Guidel-Plage\, Guidel
CATEGORIES:Marché
END:VEVENT
END:VCALENDAR