BEGIN:VCALENDAR
VERSION:2.0
PRODID:-// - ECPv5.10.0//NONSGML v1.0//EN
CALSCALE:GREGORIAN
METHOD:PUBLISH
X-ORIGINAL-URL:http://escargoterie-groix.fr
X-WR-CALDESC:évènements pour 
BEGIN:VTIMEZONE
TZID:Europe/Paris
BEGIN:DAYLIGHT
TZOFFSETFROM:+0100
TZOFFSETTO:+0200
TZNAME:CEST
DTSTART:20250330T010000
END:DAYLIGHT
BEGIN:STANDARD
TZOFFSETFROM:+0200
TZOFFSETTO:+0100
TZNAME:CET
DTSTART:20251026T010000
END:STANDARD
END:VTIMEZONE
BEGIN:VEVENT
DTSTART;TZID=Europe/Paris:20251206T080000
DTEND;TZID=Europe/Paris:20251206T123000
DTSTAMP:20260422T094603
CREATED:20200926T185733Z
LAST-MODIFIED:20250912T072628Z
UID:1149-1765008000-1765024200@escargoterie-groix.fr
SUMMARY:Marché de Lorient
DESCRIPTION:
URL:http://escargoterie-groix.fr/event/marche-de-lorient-7/
LOCATION:Halles de Merville\, Lorient\, avenue Anatole France\, Lorient\, 56100\, France
CATEGORIES:Marché
END:VEVENT
END:VCALENDAR